{
 "Document Info": {
  "Author": "",
  "Category": "",
  "Comments": "",
  "Credits": "",
  "Keywords": "ORTO_1992_E6000_10_10s",
  "Subject": "",
  "Title": "ORTO_1992_E6000_10_10s.ecw"
 },
 "capabilities": "",
 "copyrightText": "",
 "description": "Coverage",
 "fullExtent": {
  "spatialReference": {
   "wkid": 102100
  },
  "xmax": -390289.0251594084,
  "xmin": -406229.646956386,
  "ymax": 4941008.000835574,
  "ymin": 4910611.984002012
 },
 "initialExtent": {
  "spatialReference": {
   "wkid": 102100
  },
  "xmax": -390289.0251594084,
  "xmin": -406229.646956386,
  "ymax": 4941008.000835574,
  "ymin": 4910611.984002012
 },
 "layers": [
  {
   "defaultVisibility": true,
   "id": 0,
   "name": "ORTO_1992_E6000_10_10s",
   "parentLayerId": -1,
   "subLayerIds": null
  }
 ],
 "mapName": "ORTO_1992_E6000_10_10s",
 "serviceDescription": "Coverage",
 "singleFusedMapCache": true,
 "spatialReference": {
  "wkid": 3857
 },
 "supportedImageFormatTypes": "PNG8,PNG24,JPG,WEBP,JPEGXR,JPGPNG",
 "tables": [],
 "tileInfo": {
  "cols": 256,
  "compressionQuality": 75,
  "dpi": 96,
  "format": "PNG24",
  "lods": [
   {
    "level": 0,
    "resolution": 156543.0339280275,
    "scale": 591657527.5916585
   },
   {
    "level": 1,
    "resolution": 78271.51696401373,
    "scale": 295828763.7958292
   },
   {
    "level": 2,
    "resolution": 39135.75848200687,
    "scale": 147914381.8979146
   },
   {
    "level": 3,
    "resolution": 19567.87924100343,
    "scale": 73957190.94895731
   },
   {
    "level": 4,
    "resolution": 9783.939620501717,
    "scale": 36978595.47447866
   },
   {
    "level": 5,
    "resolution": 4891.969810250858,
    "scale": 18489297.73723933
   },
   {
    "level": 6,
    "resolution": 2445.984905125429,
    "scale": 9244648.868619664
   },
   {
    "level": 7,
    "resolution": 1222.992452562715,
    "scale": 4622324.434309832
   },
   {
    "level": 8,
    "resolution": 611.4962262813573,
    "scale": 2311162.217154916
   },
   {
    "level": 9,
    "resolution": 305.7481131406786,
    "scale": 1155581.108577458
   },
   {
    "level": 10,
    "resolution": 152.8740565703393,
    "scale": 577790.554288729
   },
   {
    "level": 11,
    "resolution": 76.43702828516966,
    "scale": 288895.2771443645
   },
   {
    "level": 12,
    "resolution": 38.21851414258483,
    "scale": 144447.6385721822
   },
   {
    "level": 13,
    "resolution": 19.10925707129242,
    "scale": 72223.81928609112
   },
   {
    "level": 14,
    "resolution": 9.554628535646208,
    "scale": 36111.90964304556
   },
   {
    "level": 15,
    "resolution": 4.777314267823104,
    "scale": 18055.95482152278
   },
   {
    "level": 16,
    "resolution": 2.388657133911552,
    "scale": 9027.97741076139
   },
   {
    "level": 17,
    "resolution": 1.194328566955776,
    "scale": 4513.988705380695
   },
   {
    "level": 18,
    "resolution": 0.597164283477888,
    "scale": 2256.994352690348
   },
   {
    "level": 19,
    "resolution": 0.298582141738944,
    "scale": 1128.497176345174
   },
   {
    "level": 20,
    "resolution": 0.149291070869472,
    "scale": 564.2485881725869
   },
   {
    "level": 21,
    "resolution": 0.074645535434736,
    "scale": 282.1242940862935
   },
   {
    "level": 22,
    "resolution": 0.037322767717368,
    "scale": 141.0621470431467
   },
   {
    "level": 23,
    "resolution": 0.018661383858684,
    "scale": 70.53107352157336
   },
   {
    "level": 24,
    "resolution": 0.009330691929342,
    "scale": 35.26553676078668
   },
   {
    "level": 25,
    "resolution": 0.004665345964671,
    "scale": 17.63276838039334
   }
  ],
  "origin": {
   "x": -20037508.34279,
   "y": 20037508.34279
  },
  "rows": 256,
  "spatialReference": {
   "wkid": 3857
  }
 },
 "units": "esriMeters"
}
