ERDAS APOLLO 2018

GeoServices Home > ORTO_REF22G_1958_E10000_10_10 (MapServer)

GeoServices Directory

View in:

ArcGIS.com Map (terms of use)

Service Description:

Coverage

Layers

All Layers and Tables

Metadata:

  • Description: Coverage
  • Copyright Text:
  • Spatial Reference: 3857
  • Title: ORTO_REF22G_1958_E10000_10_10.ecw
  • Author:
  • Comments:
  • Subject:
  • Category:
  • Keywords: ORTO_REF22G_1958_E10000_10_10
  • Credits:
  • Supported Interfaces: REST
  • Supported Operations:
  • Export Map

Map info:

  • Single Fused Map Cache: true
  • Tile Info:
  • Height: 256
  • Width: 256
  • DPI: 96
  • Levels of Detail: (# Levels 26)
    • Level ID: 0[ Start Tile, End Tile ]
        Resolution: 156543.0339280275
        Scale:591657527.5916585
    • Level ID: 1[ Start Tile, End Tile ]
        Resolution: 78271.51696401373
        Scale:295828763.7958292
    • Level ID: 2[ Start Tile, End Tile ]
        Resolution: 39135.75848200687
        Scale:147914381.8979146
    • Level ID: 3[ Start Tile, End Tile ]
        Resolution: 19567.87924100343
        Scale:73957190.94895731
    • Level ID: 4[ Start Tile, End Tile ]
        Resolution: 9783.939620501717
        Scale:36978595.47447866
    • Level ID: 5[ Start Tile, End Tile ]
        Resolution: 4891.969810250858
        Scale:18489297.73723933
    • Level ID: 6[ Start Tile, End Tile ]
        Resolution: 2445.984905125429
        Scale:9244648.868619664
    • Level ID: 7[ Start Tile, End Tile ]
        Resolution: 1222.992452562715
        Scale:4622324.434309832
    • Level ID: 8[ Start Tile, End Tile ]
        Resolution: 611.4962262813573
        Scale:2311162.217154916
    • Level ID: 9[ Start Tile, End Tile ]
        Resolution: 305.7481131406786
        Scale:1155581.108577458
    • Level ID: 10[ Start Tile, End Tile ]
        Resolution: 152.8740565703393
        Scale:577790.554288729
    • Level ID: 11[ Start Tile, End Tile ]
        Resolution: 76.43702828516966
        Scale:288895.2771443645
    • Level ID: 12[ Start Tile, End Tile ]
        Resolution: 38.21851414258483
        Scale:144447.6385721822
    • Level ID: 13[ Start Tile, End Tile ]
        Resolution: 19.10925707129242
        Scale:72223.81928609112
    • Level ID: 14[ Start Tile, End Tile ]
        Resolution: 9.554628535646208
        Scale:36111.90964304556
    • Level ID: 15[ Start Tile, End Tile ]
        Resolution: 4.777314267823104
        Scale:18055.95482152278
    • Level ID: 16[ Start Tile, End Tile ]
        Resolution: 2.388657133911552
        Scale:9027.97741076139
    • Level ID: 17[ Start Tile, End Tile ]
        Resolution: 1.194328566955776
        Scale:4513.988705380695
    • Level ID: 18[ Start Tile, End Tile ]
        Resolution: 0.597164283477888
        Scale:2256.994352690348
    • Level ID: 19[ Start Tile, End Tile ]
        Resolution: 0.298582141738944
        Scale:1128.497176345174
    • Level ID: 20[ Start Tile, End Tile ]
        Resolution: 0.149291070869472
        Scale:564.2485881725869
    • Level ID: 21[ Start Tile, End Tile ]
        Resolution: 0.074645535434736
        Scale:282.1242940862935
    • Level ID: 22[ Start Tile, End Tile ]
        Resolution: 0.037322767717368
        Scale:141.0621470431467
    • Level ID: 23[ Start Tile, End Tile ]
        Resolution: 0.018661383858684
        Scale:70.53107352157336
    • Level ID: 24[ Start Tile, End Tile ]
        Resolution: 0.009330691929342
        Scale:35.26553676078668
    • Level ID: 25[ Start Tile, End Tile ]
        Resolution: 0.004665345964671
        Scale:17.63276838039334
  • Format: PNG24
  • Compression Quality: 75
  • Origin: -20037508.34279
    20037508.34279
  • Spatial Reference: 3857
  • Initial Extent:
      XMin: -411900.01875373826
      YMin: 4931800.6430891724
      XMax: -409618.8424831499
      YMax: 4933968.0576606793
      Spatial Reference: 102100
  • Full Extent:
      XMin: -411900.01875373826
      YMin: 4931800.6430891724
      XMax: -409618.8424831499
      YMax: 4933968.0576606793
      Spatial Reference: 102100
  • Units: esriMeters
  • Supported Image Format Types: PNG8,PNG24,JPG,WEBP,JPEGXR,JPGPNG
  • Miscellaneous

    © Hexagon Geospatial Corporation 2018

    Geoservices Protocol

    Geoservices is a proprietary protocol from ESRI. ERDAS APOLLO currently implements the Map Service type to aid image serving interoperability with existing ESRI clients.